BEGIN:VCALENDAR
VERSION:2.0
PRODID:-//Société d&#039;Horticulture de l&#039;Anjou - ECPv4.5.7//NONSGML v1.0//EN
CALSCALE:GREGORIAN
METHOD:PUBLISH
X-WR-CALNAME:Société d&#039;Horticulture de l&#039;Anjou
X-ORIGINAL-URL:https://societe-horticulture-49.fr
X-WR-CALDESC:Events for Société d&#039;Horticulture de l&#039;Anjou
BEGIN:VEVENT
DTSTART;TZID=UTC+2:20260203T100000
DTEND;TZID=UTC+2:20260203T120000
DTSTAMP:20260419T122346
CREATED:20241219T091354Z
LAST-MODIFIED:20260203T085357Z
UID:7631-1770112800-1770120000@societe-horticulture-49.fr
SUMMARY:Atelier reconnaissance des plantes niveau 2
DESCRIPTION:Atelier animé par Yves Le Guennec. Pour le niveau 2\, l’atelier aborde la notion de familles de plantes élaborées au XVIIIème siècle par Linné et complétée de nos jours par les études génétiques. \nPour tout renseignement : \nyleguennec49@orange.fr \n  \nMerci de nous partager et de nous suivre :\n		0
URL:https://societe-horticulture-49.fr/agenda/ayelier-reconnaissance-plantes-niveau-2/
LOCATION:9 rue du Château d'Orgemont\, Angers\, 49000\, France
CATEGORIES:Les Rendez-vous de la SHA
END:VEVENT
END:VCALENDAR