BEGIN:VCALENDAR
VERSION:2.0
PRODID:-//Société d&#039;Horticulture de l&#039;Anjou - ECPv4.5.7//NONSGML v1.0//EN
CALSCALE:GREGORIAN
METHOD:PUBLISH
X-WR-CALNAME:Société d&#039;Horticulture de l&#039;Anjou
X-ORIGINAL-URL:https://societe-horticulture-49.fr
X-WR-CALDESC:Events for Société d&#039;Horticulture de l&#039;Anjou
BEGIN:VEVENT
DTSTART;TZID=UTC+2:20260210T100000
DTEND;TZID=UTC+2:20260210T120000
DTSTAMP:20260419T085541
CREATED:20241219T092051Z
LAST-MODIFIED:20260203T085426Z
UID:7638-1770717600-1770724800@societe-horticulture-49.fr
SUMMARY:Atelier reconnaissance des plantes niveau 3
DESCRIPTION:Atelier animé par Yves Le Guennec. Pour le niveau 3\, l’accent est mis sur les nouveautés horticoles ainsi que sur les variétés permettant de créer des perspectives ou des espaces clos dans les jardins. \nPour tout renseignement : \nyleguennec49@orange.fr \n  \nMerci de nous partager et de nous suivre :\n		0
URL:https://societe-horticulture-49.fr/agenda/atelier-reconnaissance-plantes-niveau-3/
LOCATION:9 rue du Château d'Orgemont\, Angers\, 49000\, France
CATEGORIES:Les Rendez-vous de la SHA
END:VEVENT
END:VCALENDAR